BEGIN:VCALENDAR
VERSION:2.0
PRODID:-//Austin Area Alliance of Black School Educators (Austin AABSE) - ECPv6.15.16//NONSGML v1.0//EN
CALSCALE:GREGORIAN
METHOD:PUBLISH
X-WR-CALNAME:Austin Area Alliance of Black School Educators (Austin AABSE)
X-ORIGINAL-URL:https://www.austinaabse.org
X-WR-CALDESC:Events for Austin Area Alliance of Black School Educators (Austin AABSE)
REFRESH-INTERVAL;VALUE=DURATION:PT1H
X-Robots-Tag:noindex
X-PUBLISHED-TTL:PT1H
BEGIN:VTIMEZONE
TZID:America/Chicago
BEGIN:DAYLIGHT
TZOFFSETFROM:-0600
TZOFFSETTO:-0500
TZNAME:CDT
DTSTART:20210314T080000
END:DAYLIGHT
BEGIN:STANDARD
TZOFFSETFROM:-0500
TZOFFSETTO:-0600
TZNAME:CST
DTSTART:20211107T070000
END:STANDARD
BEGIN:DAYLIGHT
TZOFFSETFROM:-0600
TZOFFSETTO:-0500
TZNAME:CDT
DTSTART:20220313T080000
END:DAYLIGHT
BEGIN:STANDARD
TZOFFSETFROM:-0500
TZOFFSETTO:-0600
TZNAME:CST
DTSTART:20221106T070000
END:STANDARD
BEGIN:DAYLIGHT
TZOFFSETFROM:-0600
TZOFFSETTO:-0500
TZNAME:CDT
DTSTART:20230312T080000
END:DAYLIGHT
BEGIN:STANDARD
TZOFFSETFROM:-0500
TZOFFSETTO:-0600
TZNAME:CST
DTSTART:20231105T070000
END:STANDARD
BEGIN:DAYLIGHT
TZOFFSETFROM:-0600
TZOFFSETTO:-0500
TZNAME:CDT
DTSTART:20240310T080000
END:DAYLIGHT
BEGIN:STANDARD
TZOFFSETFROM:-0500
TZOFFSETTO:-0600
TZNAME:CST
DTSTART:20241103T070000
END:STANDARD
BEGIN:DAYLIGHT
TZOFFSETFROM:-0600
TZOFFSETTO:-0500
TZNAME:CDT
DTSTART:20250309T080000
END:DAYLIGHT
BEGIN:STANDARD
TZOFFSETFROM:-0500
TZOFFSETTO:-0600
TZNAME:CST
DTSTART:20251102T070000
END:STANDARD
END:VTIMEZONE
BEGIN:VEVENT
DTSTART;TZID=America/Chicago:20240210T100000
DTEND;TZID=America/Chicago:20240210T120000
DTSTAMP:20260423T095704
CREATED:20240207T195824Z
LAST-MODIFIED:20240207T195824Z
UID:2068-1707559200-1707566400@www.austinaabse.org
SUMMARY:2024 AAABSE Meeting
DESCRIPTION:
URL:https://www.austinaabse.org/event/2024-aaabse-meeting/
LOCATION:ACC Highland Campus\, 6101 Highland Campus Drive\, Building 4000\, Austin\, Texas
ATTACH;FMTTYPE=image/png:https://www.austinaabse.org/wp-content/uploads/2024/02/2024-AAABSE-Meeting.png
END:VEVENT
BEGIN:VEVENT
DTSTART;TZID=America/Chicago:20230720T190000
DTEND;TZID=America/Chicago:20230720T203000
DTSTAMP:20260423T095704
CREATED:20230722T072126Z
LAST-MODIFIED:20230722T072201Z
UID:2037-1689879600-1689885000@www.austinaabse.org
SUMMARY:REJUVENATING OUR JOURNEY
DESCRIPTION:Austin Area Alliance of Black School Educators\n(AustinAABSE)was established in Austin\, Texas in 1996. We are a nonprofit organization dedicated to improving the educational accomplishments of Austin Area children\, particularly African American children. \nOur local affiliate serves to provide social and instructional support for African American students\, staff\, and families\, promote and expand career opportunities for our membership and assist in serving the African American community through advocacy\, knowledge\, and networking. We are the local affiliate of the Texas Alliance of Black School Educators (TABSE) and the National Alliance of Black School Educators (NABSE) We have hosted four State Conferences and are committed to uniting our families for success. We are an” urban” district and an Institutional member of TABSE. We seek dedicated members who have African American Children\, Employees\, Parents\, and our community as the PRIORITY!
URL:https://www.austinaabse.org/event/rejuvenating-our-journey/
LOCATION:Greater Calvary\, 6510 Berkman Dr. 78723\, Austin
ATTACH;FMTTYPE=image/jpeg:https://www.austinaabse.org/wp-content/uploads/2023/07/Austin-AABSE-Meeting-Notification-Summer-2023-July.jpg
END:VEVENT
BEGIN:VEVENT
DTSTART;TZID=America/Chicago:20220824T170000
DTEND;TZID=America/Chicago:20220824T183000
DTSTAMP:20260423T095704
CREATED:20220815T131820Z
LAST-MODIFIED:20220815T132157Z
UID:1974-1661360400-1661365800@www.austinaabse.org
SUMMARY:Meet & Greet August is Membership Renewal & Recruiting Month
DESCRIPTION:
URL:https://www.austinaabse.org/event/meet-greet-august-is-renewal-and-recruiting-month-rejuvenating-our-journey/
LOCATION:Texas
ATTACH;FMTTYPE=image/jpeg:https://www.austinaabse.org/wp-content/uploads/2022/08/Austin-AABSE-Meet-Greet-Notification-Fall-2022.jpg
END:VEVENT
END:VCALENDAR